BEGIN:VCALENDAR
VERSION:2.0
PRODID:-//Safe Routes to School - ECPv6.15.20//NONSGML v1.0//EN
CALSCALE:GREGORIAN
METHOD:PUBLISH
X-ORIGINAL-URL:https://saferoutesmichigan.org
X-WR-CALDESC:Events for Safe Routes to School
REFRESH-INTERVAL;VALUE=DURATION:PT1H
X-Robots-Tag:noindex
X-PUBLISHED-TTL:PT1H
BEGIN:VTIMEZONE
TZID:America/Detroit
BEGIN:DAYLIGHT
TZOFFSETFROM:-0500
TZOFFSETTO:-0400
TZNAME:EDT
DTSTART:20240310T070000
END:DAYLIGHT
BEGIN:STANDARD
TZOFFSETFROM:-0400
TZOFFSETTO:-0500
TZNAME:EST
DTSTART:20241103T060000
END:STANDARD
BEGIN:DAYLIGHT
TZOFFSETFROM:-0500
TZOFFSETTO:-0400
TZNAME:EDT
DTSTART:20250309T070000
END:DAYLIGHT
BEGIN:STANDARD
TZOFFSETFROM:-0400
TZOFFSETTO:-0500
TZNAME:EST
DTSTART:20251102T060000
END:STANDARD
BEGIN:DAYLIGHT
TZOFFSETFROM:-0500
TZOFFSETTO:-0400
TZNAME:EDT
DTSTART:20260308T070000
END:DAYLIGHT
BEGIN:STANDARD
TZOFFSETFROM:-0400
TZOFFSETTO:-0500
TZNAME:EST
DTSTART:20261101T060000
END:STANDARD
END:VTIMEZONE
BEGIN:VEVENT
DTSTART;TZID=America/Detroit:20250925T100000
DTEND;TZID=America/Detroit:20250925T154000
DTSTAMP:20260425T175121
CREATED:20250617T135152Z
LAST-MODIFIED:20250923T121051Z
UID:38010-1758794400-1758814800@saferoutesmichigan.org
SUMMARY:Saginaw Regional Training
DESCRIPTION:[vc_row][vc_column][vc_column_text css=””]\nMDOT Bay Region Office  (5859 Sherman Rd\, Saginaw\, MI 48604) \nTraining session from 10:00 am- 3:40 pm with sign-in/networking starting at 9:30 am. \nA light meal is provided to attendees. \n  \nAll trainings are FREE\, but registration is required as space is limited. Registration for this Saginaw training event is closed! \n  \nEach training will consist of hands-on sessions designed to help you build or sustain a SRTS project. Presentations share best practices and success stories from some of Michigan’s most innovative projects. Session topics include: \n\nUsing Community Assets to Navigate the Planning Process\nBuilding Enduring District-Wide SRTS Programs with Policy and Partnerships\nStudents at the Center: Youth Engagement and Leadership with SRTS\nSRTS in Rural Communities\n\nThis training is for you if you are a principal\, superintendent\, school transportation official\, planner\, engineer\, road authority representative\, local champion\, award recipient\, or someone who wants to dive deeper into the SRTS movement.  \n  \nIndividuals with disabilities are encouraged to attend Michigan Fitness Foundation-sponsored events. If you require a reasonable accommodation to participate in this event\, please contact Colleen Synk by August 1 at (517) 908-3826.[/vc_column_text][/vc_column][/vc_row]
URL:https://saferoutesmichigan.org/training/saginaw-regional-training/
LOCATION:5859 Sherman Rd\, Saginaw\, MI 48604\, 5859 Sherman Rd\, Saginaw\, 48604\, United States
CATEGORIES:SRTS Regional Training
END:VEVENT
END:VCALENDAR